BEGIN:VCALENDAR
VERSION:2.0
PRODID:-//Hamburg School - ECPv4.4.0.1//NONSGML v1.0//EN
CALSCALE:GREGORIAN
METHOD:PUBLISH
X-WR-CALNAME:Hamburg School
X-ORIGINAL-URL:https://hamburgschool.com
X-WR-CALDESC:Events for Hamburg School
BEGIN:VEVENT
DTSTART;TZID=UTC+0:20230501T083000
DTEND;TZID=UTC+0:20230505T123000
DTSTAMP:20260419T140531
CREATED:20230501T005846Z
LAST-MODIFIED:20230501T010044Z
UID:3539-1682929800-1683289800@hamburgschool.com
SUMMARY:NJSLA Testing (Grades 3-8)
DESCRIPTION:
URL:https://hamburgschool.com/event/njsla-testing-grades-3-8/
END:VEVENT
END:VCALENDAR