BEGIN:VCALENDAR
VERSION:2.0
PRODID:-//Hamburg School - ECPv4.4.0.1//NONSGML v1.0//EN
CALSCALE:GREGORIAN
METHOD:PUBLISH
X-WR-CALNAME:Hamburg School
X-ORIGINAL-URL:https://hamburgschool.com
X-WR-CALDESC:Events for Hamburg School
BEGIN:VEVENT
DTSTART;TZID=UTC+0:20230525T183000
DTEND;TZID=UTC+0:20230525T200000
DTSTAMP:20260423T084252
CREATED:20221229T022622Z
LAST-MODIFIED:20221229T022622Z
UID:3390-1685039400-1685044800@hamburgschool.com
SUMMARY:BOE Meeting
DESCRIPTION:
URL:https://hamburgschool.com/event/boe-meeting-72/
END:VEVENT
END:VCALENDAR