BEGIN:VCALENDAR
VERSION:2.0
PRODID:-//Hamburg School - ECPv4.4.0.1//NONSGML v1.0//EN
CALSCALE:GREGORIAN
METHOD:PUBLISH
X-WR-CALNAME:Hamburg School
X-ORIGINAL-URL:https://hamburgschool.com
X-WR-CALDESC:Events for Hamburg School
BEGIN:VEVENT
DTSTART;TZID=UTC+0:20231130T183000
DTEND;TZID=UTC+0:20231130T200000
DTSTAMP:20260423T113016
CREATED:20221229T023036Z
LAST-MODIFIED:20221229T023052Z
UID:3396-1701369000-1701374400@hamburgschool.com
SUMMARY:BOE Meeting
DESCRIPTION:
URL:https://hamburgschool.com/event/boe-meeting-78/
END:VEVENT
END:VCALENDAR