BEGIN:VCALENDAR
VERSION:2.0
PRODID:-//Hamburg School - ECPv4.4.0.1//NONSGML v1.0//EN
CALSCALE:GREGORIAN
METHOD:PUBLISH
X-WR-CALNAME:Hamburg School
X-ORIGINAL-URL:https://hamburgschool.com
X-WR-CALDESC:Events for Hamburg School
BEGIN:VEVENT
DTSTART;TZID=UTC+0:20240219T080000
DTEND;TZID=UTC+0:20240219T150000
DTSTAMP:20260423T101921
CREATED:20231229T143956Z
LAST-MODIFIED:20231229T143956Z
UID:3756-1708329600-1708354800@hamburgschool.com
SUMMARY:No School - President's Day
DESCRIPTION:
URL:https://hamburgschool.com/event/no-school-presidents-day-2/
END:VEVENT
END:VCALENDAR